BEGIN:VCALENDAR
VERSION:2.0
PRODID:-//ACOS//NONSGML CMS 17.10.4657//EN
BEGIN:VEVENT
UID:ae381cfe-4978-3e7b-0448-d2f6486bdd7f
SUMMARY:Digital veiledning
DESCRIPTION:Ta med bærbar datamaskin, nettbrett eller mobiltelefon, og du kan få gratis hjelp med konkrete spørsmål. Ingen påmelding. Servering av kaffe/te. Et samarbeid mellom Tingvoll Frivilligsentral og Tingvoll bibliotek
DTSTART:20260513T100000Z
DTEND:20260513T113000Z
LOCATION:Tingvoll bibliotek
SEQUENCE:0
CREATED:20260424T123657Z
DTSTAMP:20260425T141337Z
END:VEVENT
END:VCALENDAR
